BEGIN:VCALENDAR
VERSION:2.0
PRODID:-//ilgustobarocco.de - ECPv6.15.13//NONSGML v1.0//EN
CALSCALE:GREGORIAN
METHOD:PUBLISH
X-WR-CALNAME:ilgustobarocco.de
X-ORIGINAL-URL:https://www.ilgustobarocco.de
X-WR-CALDESC:Veranstaltungen für ilgustobarocco.de
REFRESH-INTERVAL;VALUE=DURATION:PT1H
X-Robots-Tag:noindex
X-PUBLISHED-TTL:PT1H
BEGIN:VTIMEZONE
TZID:Europe/Berlin
BEGIN:DAYLIGHT
TZOFFSETFROM:+0100
TZOFFSETTO:+0200
TZNAME:CEST
DTSTART:20220327T010000
END:DAYLIGHT
BEGIN:STANDARD
TZOFFSETFROM:+0200
TZOFFSETTO:+0100
TZNAME:CET
DTSTART:20221030T010000
END:STANDARD
BEGIN:DAYLIGHT
TZOFFSETFROM:+0100
TZOFFSETTO:+0200
TZNAME:CEST
DTSTART:20230326T010000
END:DAYLIGHT
BEGIN:STANDARD
TZOFFSETFROM:+0200
TZOFFSETTO:+0100
TZNAME:CET
DTSTART:20231029T010000
END:STANDARD
BEGIN:DAYLIGHT
TZOFFSETFROM:+0100
TZOFFSETTO:+0200
TZNAME:CEST
DTSTART:20240331T010000
END:DAYLIGHT
BEGIN:STANDARD
TZOFFSETFROM:+0200
TZOFFSETTO:+0100
TZNAME:CET
DTSTART:20241027T010000
END:STANDARD
END:VTIMEZONE
BEGIN:VEVENT
DTSTART;TZID=Europe/Berlin:20231211T193000
DTEND;TZID=Europe/Berlin:20231211T204500
DTSTAMP:20260425T005927
CREATED:20231126T132003Z
LAST-MODIFIED:20231126T151052Z
UID:10000005-1702323000-1702327500@www.ilgustobarocco.de
SUMMARY:Werkstattkonzert ADONIS
DESCRIPTION:NAH DRAN – Kultur im Gespräch\nWiederentdeckung der Stuttgarter Barockoper ADONIS\nAndreas Winter im Gespräch mit Jörg Halubek und den Interpret:innen des Abends\nEINTRITT FREI – ANMELDUNG \nBei dieser Veranstaltung ist il Gusto Barocco zu Gast bei der Reihe »Nah Dran«\, eine Kooperation von VHS Stuttgart und dem Freien Musikzentrum Stuttgart. Stuttgart bietet ein reiches und vielfältiges kulturelles Leben. In der Reihe „NAH DRAN – Kultur im Gespräch“ erfahren Sie mehr über die aktuellsten Planungen und können einen symbolischen Blick hinter die Kulissen der Kulturinstitutionen unserer Stadt werfen. Und: Sie lernen die Kulturschaffenden persönlich kennen! Das von Andreas Winter moderierte Gespräch geht u.a. der Frage nach\, wie Forschung und Musik zusammenfinden. \nWerkstattkonzert mit Werken von Johann Sigismund Kusser\, Johann Sebastian Bach\, Antonia Bembo und Robert de Visée. Im Zentrum steht die Stuttgarter Oper ADONIS (1700) von Johann Sigismund Kusser. Außerdem erklingen neben einigen Werken von J. S. Bach Ausschnitte aus weiteren Opernentdeckungen\, z.B. aus der Oper ERCOLE (1707) der italienischen Komponistin Antonia Bembo. Die Titelpartien sowohl von ADONIS als auch von ERCOLE übernimmt der in der internationalen Barockszene gefragte Bariton Yannick Debus. Dabei zeigt die Traversflötistin Dr. Claire Genewein anhand von zehn historischen Flöten\, was barocker Klang überhaupt bedeutet. \n  \nMusikalisches Programm \nJohann Sebastian Bach (1685-1750)\nOuverture D-Dur (BWV 828)\nfür Cembalo solo \nGrußwort von Dr. Stefan Kaufmann\, Vorsitzender des Kuratoriums \nJohann Sigismund Kusser (1660-1727)\naus der Stuttgarter Barockoper ADONIS (1699/1700)\n„Vergnüget im Herzen\, entfernet von Schmerzen“ \nGaspar Sanz (1640-1710)\nCanarios für Laute solo \nJohann Sigismund Kusser\n„Wer nicht eine Schönheit ehret“ (Sterbeszene) \nJohann Sebastian Bach (1685-1750)\naus: Sonate für Traversflöte und Cembalo certato in h-moll (BWV 1030)\nLargo e dolce \nKlang und Virtuosität\nEin Einblick in die Geschichte der Flöten\nDr. Claire Genewein \nJohann Sebastian Bach (1685-1750)\naus: Sonate für Traversflöte und Cembalo certato in h-moll (BWV 1030)\nPresto \nAntonia Bembo (1640-1720)\naus der Oper »L’Ercole amante«\n„Qui gira gli occhi Atlante” \nAntonia Bembo\n„Ma qual pungente arsura la mia ruvida scorza“\n(Sterbeszene von Ercole) \nRobert de Visée (1656-1732)\nChaconne für Laute solo \nJohann Sebastian Bach\n„Doch weichet\, ihr tollen\, vergeblichen Sorgen“\n(aus Kantate BWV 8) \n***\nYannick Debus\, Bariton\nClaire Genewein\, Traversflöten\nJosías Rodriguez Gandara\, Theorbe und Barockgitarre\nJörg Halubek\, Cembalo und Clavichord\nAndreas Winter\, Moderation
URL:https://www.ilgustobarocco.de/event/nahdran/
LOCATION:Freies Musikzentrum Stuttgart\, Stuttgarter Str. 15\, Stuttgart\, 70469\, Deutschland
CATEGORIES:Stuttgarter Reihe
ATTACH;FMTTYPE=image/jpeg:https://www.ilgustobarocco.de/wp-content/uploads/2022/07/yannick-debus_bariton_image08-2.jpg
END:VEVENT
END:VCALENDAR