BEGIN:VCALENDAR
VERSION:2.0
PRODID:-//ilgustobarocco.de - ECPv6.15.13//NONSGML v1.0//EN
CALSCALE:GREGORIAN
METHOD:PUBLISH
X-WR-CALNAME:ilgustobarocco.de
X-ORIGINAL-URL:https://www.ilgustobarocco.de
X-WR-CALDESC:Veranstaltungen für ilgustobarocco.de
REFRESH-INTERVAL;VALUE=DURATION:PT1H
X-Robots-Tag:noindex
X-PUBLISHED-TTL:PT1H
BEGIN:VTIMEZONE
TZID:Europe/Berlin
BEGIN:DAYLIGHT
TZOFFSETFROM:+0100
TZOFFSETTO:+0200
TZNAME:CEST
DTSTART:20230326T010000
END:DAYLIGHT
BEGIN:STANDARD
TZOFFSETFROM:+0200
TZOFFSETTO:+0100
TZNAME:CET
DTSTART:20231029T010000
END:STANDARD
BEGIN:DAYLIGHT
TZOFFSETFROM:+0100
TZOFFSETTO:+0200
TZNAME:CEST
DTSTART:20240331T010000
END:DAYLIGHT
BEGIN:STANDARD
TZOFFSETFROM:+0200
TZOFFSETTO:+0100
TZNAME:CET
DTSTART:20241027T010000
END:STANDARD
BEGIN:DAYLIGHT
TZOFFSETFROM:+0100
TZOFFSETTO:+0200
TZNAME:CEST
DTSTART:20250330T010000
END:DAYLIGHT
BEGIN:STANDARD
TZOFFSETFROM:+0200
TZOFFSETTO:+0100
TZNAME:CET
DTSTART:20251026T010000
END:STANDARD
END:VTIMEZONE
BEGIN:VEVENT
DTSTART;VALUE=DATE:20240112
DTEND;VALUE=DATE:20240113
DTSTAMP:20260424T233854
CREATED:20230902T072409Z
LAST-MODIFIED:20231126T140938Z
UID:10000003-1705017600-1705103999@www.ilgustobarocco.de
SUMMARY:CD-Release Kusser ADONIS
DESCRIPTION:
URL:https://www.ilgustobarocco.de/event/cd-release-kusser-adonis/
LOCATION:cpo
ATTACH;FMTTYPE=image/jpeg:https://www.ilgustobarocco.de/wp-content/uploads/2023/09/555-609-2_multipac_KUSSER_Adonis.jpg
END:VEVENT
END:VCALENDAR