BEGIN:VCALENDAR
VERSION:2.0
PRODID:-//ilgustobarocco.de - ECPv6.15.13//NONSGML v1.0//EN
CALSCALE:GREGORIAN
METHOD:PUBLISH
X-ORIGINAL-URL:https://www.ilgustobarocco.de
X-WR-CALDESC:Veranstaltungen für ilgustobarocco.de
REFRESH-INTERVAL;VALUE=DURATION:PT1H
X-Robots-Tag:noindex
X-PUBLISHED-TTL:PT1H
BEGIN:VTIMEZONE
TZID:Europe/Berlin
BEGIN:DAYLIGHT
TZOFFSETFROM:+0100
TZOFFSETTO:+0200
TZNAME:CEST
DTSTART:20230326T010000
END:DAYLIGHT
BEGIN:STANDARD
TZOFFSETFROM:+0200
TZOFFSETTO:+0100
TZNAME:CET
DTSTART:20231029T010000
END:STANDARD
BEGIN:DAYLIGHT
TZOFFSETFROM:+0100
TZOFFSETTO:+0200
TZNAME:CEST
DTSTART:20240331T010000
END:DAYLIGHT
BEGIN:STANDARD
TZOFFSETFROM:+0200
TZOFFSETTO:+0100
TZNAME:CET
DTSTART:20241027T010000
END:STANDARD
BEGIN:DAYLIGHT
TZOFFSETFROM:+0100
TZOFFSETTO:+0200
TZNAME:CEST
DTSTART:20250330T010000
END:DAYLIGHT
BEGIN:STANDARD
TZOFFSETFROM:+0200
TZOFFSETTO:+0100
TZNAME:CET
DTSTART:20251026T010000
END:STANDARD
END:VTIMEZONE
BEGIN:VEVENT
DTSTART;TZID=Europe/Berlin:20240928T200000
DTEND;TZID=Europe/Berlin:20240928T213000
DTSTAMP:20260424T115447
CREATED:20240801T115403Z
LAST-MODIFIED:20240801T120755Z
UID:10000008-1727553600-1727559000@www.ilgustobarocco.de
SUMMARY:Bach: Die Kunst der Fuge
DESCRIPTION:Die Positionen der Musizierenden werden „zu Grundparametern – ein Konzept\, das genauso viel mit mehrchöriger Alter Musik zu tun hat wie mit der Avantgarde. Spannend!“ berichtete die Fränkische Landeszeitung über unsere Aufführung anlässlich der Bachwoche Ansbach 2023. Die Instrumentierungen folgen stilistischen Anklängen der Fugen und zeichnen ein Panoptikum der Bachklänge. Die Notenpulte stehen an vier Orten verteilt\, Fugenstrukturen spannen sich mehrdimensional auf\, Musiker:innen tragen „das Fugenthema wie eine Monstranz durch die Kirche (…). So entsteht zudem jenseits der Raum-Klang-Interpretation jene beinahe sakrale Aura\, die Bachs späten unvollendeten Zyklus umgibt“. \nKonzert ohne Pause\, Dauer 70 Minuten
URL:https://www.ilgustobarocco.de/event/bach-die-kunst-der-fuge/
LOCATION:Leonhardskirche\, Stuttgart\, Leonhardsplatz 26\, Stuttgart\, 70182\, Deutschland
CATEGORIES:Stuttgarter Reihe
ATTACH;FMTTYPE=image/jpeg:https://www.ilgustobarocco.de/wp-content/uploads/2023/09/930KDF.jpg
END:VEVENT
BEGIN:VEVENT
DTSTART;TZID=Europe/Berlin:20240929T170000
DTEND;TZID=Europe/Berlin:20240929T183000
DTSTAMP:20260424T115447
CREATED:20240801T121141Z
LAST-MODIFIED:20240801T121141Z
UID:10000009-1727629200-1727634600@www.ilgustobarocco.de
SUMMARY:Bach: Die Kunst der Fuge
DESCRIPTION:Die Positionen der Musizierenden werden „zu Grundparametern – ein Konzept\, das genauso viel mit mehrchöriger Alter Musik zu tun hat wie mit der Avantgarde. Spannend!“ berichtete die Fränkische Landeszeitung über unsere Aufführung anlässlich der Bachwoche Ansbach 2023. Die Instrumentierungen folgen stilistischen Anklängen der Fugen und zeichnen ein Panoptikum der Bachklänge. Die Notenpulte stehen an vier Orten verteilt\, Fugenstrukturen spannen sich mehrdimensional auf\, Musiker:innen tragen „das Fugenthema wie eine Monstranz durch die Kirche (…). So entsteht zudem jenseits der Raum-Klang-Interpretation jene beinahe sakrale Aura\, die Bachs späten unvollendeten Zyklus umgibt“. \nKonzert ohne Pause\, Dauer 70 Minuten
URL:https://www.ilgustobarocco.de/event/bach-die-kunst-der-fuge-2/
LOCATION:Franziskanerkirche\, Überlingen\, Franziskanerstr. 20\, Überlingen\, 88662\, Deutschland
CATEGORIES:Stuttgarter Reihe
ATTACH;FMTTYPE=image/jpeg:https://www.ilgustobarocco.de/wp-content/uploads/2023/09/930KDF.jpg
END:VEVENT
END:VCALENDAR