BEGIN:VCALENDAR
VERSION:2.0
PRODID:-//ilgustobarocco.de - ECPv6.15.13//NONSGML v1.0//EN
CALSCALE:GREGORIAN
METHOD:PUBLISH
X-WR-CALNAME:ilgustobarocco.de
X-ORIGINAL-URL:https://www.ilgustobarocco.de
X-WR-CALDESC:Veranstaltungen für ilgustobarocco.de
REFRESH-INTERVAL;VALUE=DURATION:PT1H
X-Robots-Tag:noindex
X-PUBLISHED-TTL:PT1H
BEGIN:VTIMEZONE
TZID:Europe/Berlin
BEGIN:DAYLIGHT
TZOFFSETFROM:+0100
TZOFFSETTO:+0200
TZNAME:CEST
DTSTART:20250330T010000
END:DAYLIGHT
BEGIN:STANDARD
TZOFFSETFROM:+0200
TZOFFSETTO:+0100
TZNAME:CET
DTSTART:20251026T010000
END:STANDARD
BEGIN:DAYLIGHT
TZOFFSETFROM:+0100
TZOFFSETTO:+0200
TZNAME:CEST
DTSTART:20260329T010000
END:DAYLIGHT
BEGIN:STANDARD
TZOFFSETFROM:+0200
TZOFFSETTO:+0100
TZNAME:CET
DTSTART:20261025T010000
END:STANDARD
BEGIN:DAYLIGHT
TZOFFSETFROM:+0100
TZOFFSETTO:+0200
TZNAME:CEST
DTSTART:20270328T010000
END:DAYLIGHT
BEGIN:STANDARD
TZOFFSETFROM:+0200
TZOFFSETTO:+0100
TZNAME:CET
DTSTART:20271031T010000
END:STANDARD
END:VTIMEZONE
BEGIN:VEVENT
DTSTART;TZID=Europe/Berlin:20260329T190000
DTEND;TZID=Europe/Berlin:20260329T201500
DTSTAMP:20260420T203712
CREATED:20250815T121337Z
LAST-MODIFIED:20250815T121343Z
UID:10000030-1774810800-1774815300@www.ilgustobarocco.de
SUMMARY:Bach Organ Landscapes
DESCRIPTION:Finale\n\n\n\n\n\n\nSeit 2017 widmet sich Jörg Halubek in seinem groß angelegten Aufnahmeprojekt Bach • Organ Landscapes der vollständigen Einspielung von Bachs Orgelwerk – an 18 ausgewählten historischen Instrumenten in Thüringen\, Sachsen und Norddeutschland. \nMit diesem Konzert im Konzertsaal der Stuttgarter Musikhochschule\, wo Halubek als Professor für Orgel lehrt\, feiert das Projekt seinen Abschluss – begleitet von der Veröffentlichung der zehnten und letzten Doppel-CD bei Berlin Classics. Die Kontraste zwischen Konzertsaalorgel und barocker Originalklangästhetik machen den Abend zugleich zu einem persönlichen Resümee. \nZehn Doppel-CDs sowie eine umfassende digitale Plattform mit Klangbeispielen\, Dispositionen und Videoformaten dokumentieren eine künstlerische Annäherung an Bachs Orgelkosmos – geprägt von Neugier\, historischer Praxis und individueller Handschrift. \nZu hören sind Choralbearbeitungen aus dem Orgelbüchlein und der Clavierübung III\, Leipziger und Schübler-Choräle sowie großformatige Präludien und Fugen. \nKonzert ohne Pause\, Dauer 70 Minuten \n\n\n\n\n\nProgramm\nPräludien und Fugen BWV 532\, 548\, 577\, 540\nChoralvorspiele BWV 549\, 647\, 654\, 622\, 619\, 621\, 629\, 625\, 680\, 683\, 684 \nMitwirkende\nJörg Halubek | Orgel
URL:https://www.ilgustobarocco.de/event/organ-landscapes-finale/
LOCATION:Konzertsaal HMDK\, Urbanstraße 25\, Stuttgart\, 70182\, Germany
CATEGORIES:Stuttgarter Reihe
ATTACH;FMTTYPE=image/jpeg:https://www.ilgustobarocco.de/wp-content/uploads/2025/08/BACH-Foto-Hamburg-010-20200712-121.jpg
END:VEVENT
END:VCALENDAR